BEGIN:VCALENDAR
VERSION:2.0
PRODID:-//Klimaschutzagentur - ECPv6.15.20//NONSGML v1.0//EN
CALSCALE:GREGORIAN
METHOD:PUBLISH
X-WR-CALNAME:Klimaschutzagentur
X-ORIGINAL-URL:https://klimaschutzagentur-hildesheim.de
X-WR-CALDESC:Veranstaltungen für Klimaschutzagentur
REFRESH-INTERVAL;VALUE=DURATION:PT1H
X-Robots-Tag:noindex
X-PUBLISHED-TTL:PT1H
BEGIN:VTIMEZONE
TZID:Europe/Berlin
BEGIN:DAYLIGHT
TZOFFSETFROM:+0100
TZOFFSETTO:+0200
TZNAME:CEST
DTSTART:20210328T010000
END:DAYLIGHT
BEGIN:STANDARD
TZOFFSETFROM:+0200
TZOFFSETTO:+0100
TZNAME:CET
DTSTART:20211031T010000
END:STANDARD
BEGIN:DAYLIGHT
TZOFFSETFROM:+0100
TZOFFSETTO:+0200
TZNAME:CEST
DTSTART:20220327T010000
END:DAYLIGHT
BEGIN:STANDARD
TZOFFSETFROM:+0200
TZOFFSETTO:+0100
TZNAME:CET
DTSTART:20221030T010000
END:STANDARD
BEGIN:DAYLIGHT
TZOFFSETFROM:+0100
TZOFFSETTO:+0200
TZNAME:CEST
DTSTART:20230326T010000
END:DAYLIGHT
BEGIN:STANDARD
TZOFFSETFROM:+0200
TZOFFSETTO:+0100
TZNAME:CET
DTSTART:20231029T010000
END:STANDARD
END:VTIMEZONE
BEGIN:VEVENT
DTSTART;TZID=Europe/Berlin:20220223T190000
DTEND;TZID=Europe/Berlin:20220223T210000
DTSTAMP:20260425T131553
CREATED:20220214T082602Z
LAST-MODIFIED:20220228T071808Z
UID:2573-1645642800-1645650000@klimaschutzagentur-hildesheim.de
SUMMARY:Lebensraum für Wildbienen
DESCRIPTION:Im Projekt Kirche natürlich des Dekanates Borsum-Sarstedt geht es darum\, auf kirchlichen Grundstücken für mehr Artenvielfalt zu sorgen und damit einen Beitrag gegen das Artensterben zu leisten. Vielen fehlt das Wissen\, was zu einem Biotopverbund für Insekten und Vögel gehören könnte. In einem Online-Vortrag gibt der Wildbienenexperte des niedersächsischen BUND\, Jakob Grabow-Klucken\, einen Überblick darüber\, welche Pflanzen Nahrung für Wildbienen bieten und wo die heimischen Wildbienen im Garten ihre Nester für die nächste Generationen anlegen.\nAnmeldungen von Interessierten können per Mail an das Dekanatsbüro geschickt werden: dekanat@kathkirche-borsa.de
URL:https://klimaschutzagentur-hildesheim.de/kalender/lebensraum-fuer-wildbienen/
LOCATION:Online-Veranstaltung
CATEGORIES:Sich informieren & lernen
ATTACH;FMTTYPE=image/jpeg:https://klimaschutzagentur-hildesheim.de/wp-content/uploads/2022/02/Holzbiene_Vera-Kriegisch-scaled.jpeg
ORGANIZER;CN="Dekanat Borsum-Sarstedt":MAILTO:dekanat@kathkirche-borsa.de
END:VEVENT
END:VCALENDAR