BEGIN:VCALENDAR
VERSION:2.0
PRODID:-//Klimaschutzagentur - ECPv6.15.20//NONSGML v1.0//EN
CALSCALE:GREGORIAN
METHOD:PUBLISH
X-WR-CALNAME:Klimaschutzagentur
X-ORIGINAL-URL:https://klimaschutzagentur-hildesheim.de
X-WR-CALDESC:Veranstaltungen für Klimaschutzagentur
REFRESH-INTERVAL;VALUE=DURATION:PT1H
X-Robots-Tag:noindex
X-PUBLISHED-TTL:PT1H
BEGIN:VTIMEZONE
TZID:Europe/Berlin
BEGIN:DAYLIGHT
TZOFFSETFROM:+0100
TZOFFSETTO:+0200
TZNAME:CEST
DTSTART:20200329T010000
END:DAYLIGHT
BEGIN:STANDARD
TZOFFSETFROM:+0200
TZOFFSETTO:+0100
TZNAME:CET
DTSTART:20201025T010000
END:STANDARD
BEGIN:DAYLIGHT
TZOFFSETFROM:+0100
TZOFFSETTO:+0200
TZNAME:CEST
DTSTART:20210328T010000
END:DAYLIGHT
BEGIN:STANDARD
TZOFFSETFROM:+0200
TZOFFSETTO:+0100
TZNAME:CET
DTSTART:20211031T010000
END:STANDARD
BEGIN:DAYLIGHT
TZOFFSETFROM:+0100
TZOFFSETTO:+0200
TZNAME:CEST
DTSTART:20220327T010000
END:DAYLIGHT
BEGIN:STANDARD
TZOFFSETFROM:+0200
TZOFFSETTO:+0100
TZNAME:CET
DTSTART:20221030T010000
END:STANDARD
END:VTIMEZONE
BEGIN:VEVENT
DTSTART;TZID=Europe/Berlin:20210222T180000
DTEND;TZID=Europe/Berlin:20210222T193000
DTSTAMP:20260426T020751
CREATED:20210216T113642Z
LAST-MODIFIED:20210216T113642Z
UID:2037-1614016800-1614022200@klimaschutzagentur-hildesheim.de
SUMMARY:Auf geht’s! Hildesheimer Klimafasten 2021
DESCRIPTION:Eine Aktion für Klimaschutz und Klimagerechtigkeit unter dem Motto „So viel du brauchst“ \nDigitale Auftaktveranstaltung vom ev.-luth. Kirchenkreis Hildesheim-Sarstedt\nPer Livestream aus dem Hildesheimer KulturRatskeller unter www.kultur-stream.live\n– mit Videobotschaft von Eckhart von Hirschhausen\nund einem Impuls von Fernanda Wolff Metternich\, beide von der Stiftung Gesunde Erde Gesunde Menschen (www.stiftung-gegm.de)\n– mit Beteiligung der Zuschauenden über den Chat\n– mit Infos zum Klimafasten 2021 und Ideen und Aktionen aus dem Kirchenkreis\n• für Kitas\, Kita-Kinder und ihre Familien\n• für Jugendliche: Escape-Room und Tipps über Instagram\n• aus der Kirchengemeinde: Klima-Spaziergänge in den Sonnenuntergang\n– mit einem Statement von Fridays for Future Hildesheim \nEine Veranstaltung des Projektes „Lernen eine Welt zu sein. Nachhaltigkeit\, ökofairer Einkauf und globales Lernen im Kirchenkreis Hildesheim-Sarstedt\nIn Kooperation mit dem Netzwerk öko\, fair & mehr in der Region Hildesheim\nLeitung: Michaela Grön
URL:https://klimaschutzagentur-hildesheim.de/kalender/auf-gehts-hildesheimer-klimafasten-2021/
LOCATION:Online-Veranstaltung
CATEGORIES:Aktiv sein,Sich informieren & lernen,Sich treffen & austauschen
ATTACH;FMTTYPE=image/jpeg:https://klimaschutzagentur-hildesheim.de/wp-content/uploads/2021/02/Klimafasten21_851x315_01-1-scaled.jpg
ORGANIZER;CN="Projekt 'Lernen eine Welt zu sein'":MAILTO:michaela.groen@evlka.de
END:VEVENT
BEGIN:VEVENT
DTSTART;TZID=Europe/Berlin:20210215T180000
DTEND;TZID=Europe/Berlin:20210215T193000
DTSTAMP:20260426T020751
CREATED:20210210T074606Z
LAST-MODIFIED:20230214T093606Z
UID:1975-1613412000-1613417400@klimaschutzagentur-hildesheim.de
SUMMARY:Woher nehmen wir unsere Energie?
DESCRIPTION:Online-Diskussion im Forum \nStromanbieter wechseln\, Energie sparen… Welche weiteren Möglichkeiten gibt es für jede und jeden persönlich\, die Nutzung von regenerativen Energien zu fördern. Welche innovativen Ideen gibt es?\nNach einem Impulsreferat aus der Runde\, soll es in der Diskussion weitergehen. \nWiltrud Mühlbauer aus Laatzen hält das Impulsreferat\, in dem es zunächst um die die Alternativen zu fossilen Energien geht und dann um die Frage\, wie wir unseren Energiehunger stillen können.\nIn der anschließenden Diskussion soll es auch darum gehen\, was jeder / jede Einzelne tun kann.\nWie könnte man sich gemeinsam für klimaschonende Energienutzung stark machen? \nWer an der Diskussion teilnehmen möchte\, meldet sich bitte über die Dekanats-Website an und bekommt dann einen Link zugeschickt.
URL:https://klimaschutzagentur-hildesheim.de/kalender/woher-nehmen-wir-unsere-energie/
LOCATION:Online-Veranstaltung
CATEGORIES:Aktiv sein,Sich informieren & lernen,Sich treffen & austauschen
ATTACH;FMTTYPE=image/jpeg:https://klimaschutzagentur-hildesheim.de/wp-content/uploads/2021/02/Herbst-Zugvoegel-1.jpg
ORGANIZER;CN="Dekanat Borsum-Sarstedt":MAILTO:dekanat@kathkirche-borsa.de
END:VEVENT
END:VCALENDAR